BEGIN:VCALENDAR
VERSION:2.0
PRODID:-//wp-events-plugin.com//7.2.3.1//EN
TZID:Europe/Dublin
X-WR-TIMEZONE:Europe/Dublin
BEGIN:VEVENT
UID:53@kildarelocalhistory.ie
DTSTART;TZID=Europe/Dublin:20230627T200000
DTEND;TZID=Europe/Dublin:20230627T210000
DTSTAMP:20230616T155743Z
URL:https://kildarelocalhistory.ie/events/curragh-local-history-group-agm/
SUMMARY:Curragh Local History Group - AGM
DESCRIPTION:The Curragh Local History Group cordially invites you to the An
 nual General Meeting which takes place on Tuesday 27 June at 8pm in Suncro
 ft Community Complex.\n\nThis is our first AGM since Covid so please come 
 along and support us.\n\nDetails of the proposed annual outing will be ava
 ilable on the night.
ATTACH;FMTTYPE=image/jpeg:https://kildarelocalhistory.ie/wp-content/upload
 s/2023/06/4x3xl-Curragh-Local-History-Group-AGM.jpg
CATEGORIES:Curragh
LOCATION:Suncroft Community Complex\, Askinraw Lane\, Suncroft\, County Kil
 dare\, R56 VP63\, Ireland
X-APPLE-STRUCTURED-LOCATION;VALUE=URI;X-ADDRESS=Askinraw Lane\, Suncroft\, 
 County Kildare\, R56 VP63\, Ireland;X-APPLE-RADIUS=100;X-TITLE=Suncroft Co
 mmunity Complex:geo:0,0
END:VEVENT
BEGIN:VTIMEZONE
TZID:Europe/Dublin
X-LIC-LOCATION:Europe/Dublin
BEGIN:DAYLIGHT
DTSTART:20230326T020000
TZOFFSETFROM:+0000
TZOFFSETTO:+0100
TZNAME:IST
END:DAYLIGHT
END:VTIMEZONE
END:VCALENDAR