BEGIN:VCALENDAR
VERSION:2.0
PRODID:-//wp-events-plugin.com//7.2.3.1//EN
TZID:Europe/Dublin
X-WR-TIMEZONE:Europe/Dublin
BEGIN:VEVENT
UID:66@kildarelocalhistory.ie
DTSTART;TZID=Europe/Dublin:20231023T200000
DTEND;TZID=Europe/Dublin:20231023T210000
DTSTAMP:20230731T122054Z
URL:https://kildarelocalhistory.ie/events/fr-edmund-campion-pp-kill-1943-5
 3/
SUMMARY:Fr Edmund Campion PP Kill 1943-53
DESCRIPTION:Kill History Group\n\nFr Edmund Campion PP\, Kill 1943-53 – a
  talk by Noel Cocoman.
ATTACH;FMTTYPE=image/jpeg:https://kildarelocalhistory.ie/wp-content/upload
 s/2023/07/4x3xl-Kill-HG-Fr.Campion.jpg
CATEGORIES:Kill
LOCATION:Parish Meeting Room\, Main Street\, Kill\, County Kildare\, Irelan
 d
X-APPLE-STRUCTURED-LOCATION;VALUE=URI;X-ADDRESS=Main Street\, Kill\, County
  Kildare\, Ireland;X-APPLE-RADIUS=100;X-TITLE=Parish Meeting Room:geo:0,0
END:VEVENT
BEGIN:VTIMEZONE
TZID:Europe/Dublin
X-LIC-LOCATION:Europe/Dublin
BEGIN:DAYLIGHT
DTSTART:20230326T020000
TZOFFSETFROM:+0000
TZOFFSETTO:+0100
TZNAME:IST
END:DAYLIGHT
END:VTIMEZONE
END:VCALENDAR