BEGIN:VCALENDAR
VERSION:2.0
PRODID:-//wp-events-plugin.com//7.2.3.1//EN
TZID:Europe/Dublin
X-WR-TIMEZONE:Europe/Dublin
BEGIN:VEVENT
UID:97@kildarelocalhistory.ie
DTSTART;TZID=Europe/Dublin:20241204T200000
DTEND;TZID=Europe/Dublin:20241204T210000
DTSTAMP:20240111T032409Z
URL:https://kildarelocalhistory.ie/events/heroes-of-traitors-irish-deserte
 rs-in-wwii/
SUMMARY:Heroes of Traitors\, Irish Deserters in WWII
DESCRIPTION:Cill Dara Historical Society\n\nHeroes of Traitors\, Irish Dese
 rters in WWII\,  with Cian Harte\, Author and Historian.\n\nCome along ear
 ly for a cuppa and chat from 7.15pm
ATTACH;FMTTYPE=image/jpeg:https://kildarelocalhistory.ie/wp-content/upload
 s/2024/01/4x3xl-Cill-Dara-Historical-Society_Cian-Harte-1.jpg
CATEGORIES:Kildare
LOCATION:The Education Centre\, Old Parochial House\, Friary Road\, Kildare
 \, County Kildare\, R51 KN66\, Ireland
X-APPLE-STRUCTURED-LOCATION;VALUE=URI;X-ADDRESS=Old Parochial House\, Friar
 y Road\, Kildare\, County Kildare\, R51 KN66\, Ireland;X-APPLE-RADIUS=100;
 X-TITLE=The Education Centre:geo:0,0
END:VEVENT
BEGIN:VTIMEZONE
TZID:Europe/Dublin
X-LIC-LOCATION:Europe/Dublin
BEGIN:STANDARD
DTSTART:20241027T010000
TZOFFSETFROM:+0100
TZOFFSETTO:+0000
TZNAME:GMT
END:STANDARD
END:VTIMEZONE
END:VCALENDAR