BEGIN:VCALENDAR
VERSION:2.0
PRODID:-//wp-events-plugin.com//7.2.3.1//EN
TZID:Europe/Dublin
X-WR-TIMEZONE:Europe/Dublin
BEGIN:VEVENT
UID:207@kildarelocalhistory.ie
DTSTART;TZID=Europe/Dublin:20250429T200000
DTEND;TZID=Europe/Dublin:20250429T210000
DTSTAMP:20250423T231304Z
URL:https://kildarelocalhistory.ie/events/jubilee-nurses-the-art-of-nursin
 g-the-hardship-of-fundraising/
SUMMARY:Jubilee Nurses - The Art of Nursing The Hardship of Fundraising
DESCRIPTION:Curragh Local History Group\n\nYou are warmly welcome to attend
  the next meeting of the Curragh Local History Group at 8.00pm Tuesday 29t
 h April 2025 in Suncroft Community Center.  \n\nGuest historian Mark Orfo
 rd will talk on Jubilee Nurses The Art of Nursing The Hardship of Fundrais
 ing. \n\nAll are very welcome to catch up with old friends over a cuppa be
 fore the talk.
ATTACH;FMTTYPE=image/jpeg:https://kildarelocalhistory.ie/wp-content/upload
 s/2025/04/4x3xl-Curragh-Local-History-Group-Jublee-Nurses.jpg
CATEGORIES:Curragh
LOCATION:Suncroft Community Complex\, Askinraw Lane\, Suncroft\, County Kil
 dare\, R56 VP63\, Ireland
X-APPLE-STRUCTURED-LOCATION;VALUE=URI;X-ADDRESS=Askinraw Lane\, Suncroft\, 
 County Kildare\, R56 VP63\, Ireland;X-APPLE-RADIUS=100;X-TITLE=Suncroft Co
 mmunity Complex:geo:0,0
END:VEVENT
BEGIN:VTIMEZONE
TZID:Europe/Dublin
X-LIC-LOCATION:Europe/Dublin
BEGIN:DAYLIGHT
DTSTART:20250330T020000
TZOFFSETFROM:+0000
TZOFFSETTO:+0100
TZNAME:IST
END:DAYLIGHT
END:VTIMEZONE
END:VCALENDAR