BEGIN:VCALENDAR
VERSION:2.0
PRODID:-//wp-events-plugin.com//7.2.3.1//EN
TZID:Europe/Dublin
X-WR-TIMEZONE:Europe/Dublin
BEGIN:VEVENT
UID:279@kildarelocalhistory.ie
DTSTART;TZID=Europe/Dublin:20260425T200000
DTEND;TZID=Europe/Dublin:20260425T210000
DTSTAMP:20260409T002016Z
URL:https://kildarelocalhistory.ie/events/michael-dwyer-of-the-mountains/
SUMMARY:Michael Dwyer of the Mountains
DESCRIPTION:Ballymore Eustace History Society\n\nMichael Dwyer of the Mount
 ains - a talk by Dr Chris Lawlor\n\nChris Lawlor is a is historian and a r
 esearcher who has written 14 books on local history\, he has a particular 
 interest in Michael Dwyer and his guerilla warfare campaign in the Wicklow
  mountains from 1798 to 1803.\n\nAdmission €5
ATTACH;FMTTYPE=image/jpeg:https://kildarelocalhistory.ie/wp-content/upload
 s/2026/04/4x3xl-Balymore-History-Society-Dwyer.jpg
CATEGORIES:Ballymore Eustace
LOCATION:Community Resource Centre\, Chapel Street\, Ballymore Eustace\, Co
 unty Kildare\, Leinster\, Ireland
X-APPLE-STRUCTURED-LOCATION;VALUE=URI;X-ADDRESS=Chapel Street\, Ballymore E
 ustace\, County Kildare\, Leinster\, Ireland;X-APPLE-RADIUS=100;X-TITLE=Co
 mmunity Resource Centre:geo:0,0
END:VEVENT
BEGIN:VTIMEZONE
TZID:Europe/Dublin
X-LIC-LOCATION:Europe/Dublin
BEGIN:DAYLIGHT
DTSTART:20260329T020000
TZOFFSETFROM:+0000
TZOFFSETTO:+0100
TZNAME:IST
END:DAYLIGHT
END:VTIMEZONE
END:VCALENDAR