BEGIN:VCALENDAR
VERSION:2.0
PRODID:-//wp-events-plugin.com//7.2.3.1//EN
TZID:Europe/Dublin
X-WR-TIMEZONE:Europe/Dublin
BEGIN:VEVENT
UID:176@kildarelocalhistory.ie
DTSTART;TZID=Europe/Dublin:20250506T200000
DTEND;TZID=Europe/Dublin:20250506T210000
DTSTAMP:20250501T225913Z
URL:https://kildarelocalhistory.ie/events/monte-cassino/
SUMMARY:Four funerals and a wedding
DESCRIPTION:Naas Local History Group\n\nFour funerals and a wedding is the 
 intriguing title of a talk by Naas author James Durney on Tuesday\, 6th Ma
 y at 8pm in the Town House Hotel.  His talk will reveal how the discovery
  of a phgotograph from the 1940s linked neutral Naas with London during th
 e Blitz and Italy's Monte Cassino against the background of World War II.
   Hosted by the Naas Local History Group.\n\nAll welcome!
ATTACH;FMTTYPE=image/jpeg:https://kildarelocalhistory.ie/wp-content/upload
 s/2025/01/4x3xl-Naas-Local-History-Group_Monte-Cassino.jpg
CATEGORIES:Naas
LOCATION:Town House Hotel\, Limerick Road\, Naas\, County Kildare\, Ireland
X-APPLE-STRUCTURED-LOCATION;VALUE=URI;X-ADDRESS=Limerick Road\, Naas\, Coun
 ty Kildare\, Ireland;X-APPLE-RADIUS=100;X-TITLE=Town House Hotel:geo:0,0
END:VEVENT
BEGIN:VTIMEZONE
TZID:Europe/Dublin
X-LIC-LOCATION:Europe/Dublin
BEGIN:DAYLIGHT
DTSTART:20250330T020000
TZOFFSETFROM:+0000
TZOFFSETTO:+0100
TZNAME:IST
END:DAYLIGHT
END:VTIMEZONE
END:VCALENDAR