BEGIN:VCALENDAR
VERSION:2.0
PRODID:-//wp-events-plugin.com//7.2.3.1//EN
TZID:Europe/Dublin
X-WR-TIMEZONE:Europe/Dublin
BEGIN:VEVENT
UID:219@kildarelocalhistory.ie
DTSTART;TZID=Europe/Dublin:20250922T200000
DTEND;TZID=Europe/Dublin:20250922T210000
DTSTAMP:20250805T003728Z
URL:https://kildarelocalhistory.ie/events/my-life-in-ruins-con-brogan/
SUMMARY:‘My Life in Ruins’ - Con Brogan
DESCRIPTION:Kill History Group\n\n‘My Life in Ruins’ - an Illustrated t
 alk by retired National Monuments Service Photographer of over 40 years\, 
 Con Brogan
ATTACH;FMTTYPE=image/jpeg:https://kildarelocalhistory.ie/wp-content/upload
 s/2025/08/4x3xl-Kill-Con-Brogan.jpg
CATEGORIES:Kill
LOCATION:Parish Meeting Room\, Main Street\, Kill\, County Kildare\, Irelan
 d
X-APPLE-STRUCTURED-LOCATION;VALUE=URI;X-ADDRESS=Main Street\, Kill\, County
  Kildare\, Ireland;X-APPLE-RADIUS=100;X-TITLE=Parish Meeting Room:geo:0,0
END:VEVENT
BEGIN:VTIMEZONE
TZID:Europe/Dublin
X-LIC-LOCATION:Europe/Dublin
BEGIN:DAYLIGHT
DTSTART:20250330T020000
TZOFFSETFROM:+0000
TZOFFSETTO:+0100
TZNAME:IST
END:DAYLIGHT
END:VTIMEZONE
END:VCALENDAR