BEGIN:VCALENDAR
VERSION:2.0
PRODID:-//wp-events-plugin.com//7.2.3.1//EN
TZID:Europe/Dublin
X-WR-TIMEZONE:Europe/Dublin
BEGIN:VEVENT
UID:73@kildarelocalhistory.ie
DTSTART;TZID=Europe/Dublin:20240123T200000
DTEND;TZID=Europe/Dublin:20240123T210000
DTSTAMP:20240118T193932Z
URL:https://kildarelocalhistory.ie/events/naas-local-history-group-agm/
SUMMARY:Naas Local History Group - AGM & Talk
DESCRIPTION:Naas Local History Group\n\nAGM of Naas Local History Group\n\n
 Following the business of the meeting\, there will be a talk/slideshow "I
 mages of Old Naas" presented by Paddy Behan and Stan Hickey.\n\nThis shoul
 d be of interest to both old and new residents of Naas\, all Welcome!
ATTACH;FMTTYPE=image/jpeg:https://kildarelocalhistory.ie/wp-content/upload
 s/2023/09/4x3xl-Naas-Local-History-Group_LHG-AGM-2024.jpg
CATEGORIES:Naas
LOCATION:Town House Hotel\, Limerick Road\, Naas\, County Kildare\, Ireland
X-APPLE-STRUCTURED-LOCATION;VALUE=URI;X-ADDRESS=Limerick Road\, Naas\, Coun
 ty Kildare\, Ireland;X-APPLE-RADIUS=100;X-TITLE=Town House Hotel:geo:0,0
END:VEVENT
BEGIN:VTIMEZONE
TZID:Europe/Dublin
X-LIC-LOCATION:Europe/Dublin
BEGIN:STANDARD
DTSTART:20231029T010000
TZOFFSETFROM:+0100
TZOFFSETTO:+0000
TZNAME:GMT
END:STANDARD
END:VTIMEZONE
END:VCALENDAR