BEGIN:VCALENDAR
VERSION:2.0
PRODID:-//wp-events-plugin.com//7.2.3.1//EN
TZID:Europe/Dublin
X-WR-TIMEZONE:Europe/Dublin
BEGIN:VEVENT
UID:223@kildarelocalhistory.ie
DTSTART;TZID=Europe/Dublin:20250918T191500
DTEND;TZID=Europe/Dublin:20250918T201500
DTSTAMP:20250812T223354Z
URL:https://kildarelocalhistory.ie/events/the-harvest-of-1946-and-the-seve
 re-winter-of-1947/
SUMMARY:The Harvest of 1946 and the Severe Winter of 1947
DESCRIPTION:Leixlip History Club\n\n&nbsp\;\n\nThe Desperate Fight to save 
 the Harvest of 1946 and the Severe Winter of 1947 - an illustrated talk by
  historian Pádraig Laffan.
ATTACH;FMTTYPE=image/jpeg:https://kildarelocalhistory.ie/wp-content/upload
 s/2025/08/4x3xl-Leixlip-History-Club-P.Laffan.jpg
CATEGORIES:Leixlip
LOCATION:Leixlip Community Library\, Captain's Hill\, Newtown\, Leixlip\, C
 ounty Kildare\, W23 WR96\, Ireland
X-APPLE-STRUCTURED-LOCATION;VALUE=URI;X-ADDRESS=Captain's Hill\, Newtown\, 
 Leixlip\, County Kildare\, W23 WR96\, Ireland;X-APPLE-RADIUS=100;X-TITLE=L
 eixlip Community Library:geo:0,0
END:VEVENT
BEGIN:VTIMEZONE
TZID:Europe/Dublin
X-LIC-LOCATION:Europe/Dublin
BEGIN:DAYLIGHT
DTSTART:20250330T020000
TZOFFSETFROM:+0000
TZOFFSETTO:+0100
TZNAME:IST
END:DAYLIGHT
END:VTIMEZONE
END:VCALENDAR