BEGIN:VCALENDAR
VERSION:2.0
PRODID:-//wp-events-plugin.com//7.2.3.1//EN
TZID:Europe/Dublin
X-WR-TIMEZONE:Europe/Dublin
BEGIN:VEVENT
UID:14@kildarelocalhistory.ie
DTSTART;TZID=Europe/Dublin:20230131T200000
DTEND;TZID=Europe/Dublin:20230131T210000
DTSTAMP:20230111T174043Z
URL:https://kildarelocalhistory.ie/events/the-irish-and-the-american-civil
 -war/
SUMMARY:The Irish and the American Civil War
DESCRIPTION:Curragh Local History Group\n\nThe next meeting of the Curragh 
 Local History Group will take place on Tuesday 31st January in Suncroft Co
 mmunity Complex  at 8pm.\n\nThe speaker is Rory Hopkins who is a member o
 f the Cill Dara Historical Society.\n\nRory will give what promises to be 
 an excellent  talk on "The Irish and the American Civil War".\n\n&nbsp\;\
 n\nAdmission: Members €3 Non-members €5\nPlease arrive early for a cup
 pa and  biscuits.
ATTACH;FMTTYPE=image/jpeg:https://kildarelocalhistory.ie/wp-content/upload
 s/2023/01/4x3xl-The-Irish-American-Civil-War.jpg
CATEGORIES:Curragh
LOCATION:Suncroft Community Complex\, Askinraw Lane\, Suncroft\, County Kil
 dare\, R56 VP63\, Ireland
X-APPLE-STRUCTURED-LOCATION;VALUE=URI;X-ADDRESS=Askinraw Lane\, Suncroft\, 
 County Kildare\, R56 VP63\, Ireland;X-APPLE-RADIUS=100;X-TITLE=Suncroft Co
 mmunity Complex:geo:0,0
END:VEVENT
BEGIN:VTIMEZONE
TZID:Europe/Dublin
X-LIC-LOCATION:Europe/Dublin
BEGIN:STANDARD
DTSTART:20221030T010000
TZOFFSETFROM:+0100
TZOFFSETTO:+0000
TZNAME:GMT
END:STANDARD
END:VTIMEZONE
END:VCALENDAR