BEGIN:VCALENDAR
VERSION:2.0
PRODID:-//wp-events-plugin.com//7.2.3.1//EN
TZID:Europe/Dublin
X-WR-TIMEZONE:Europe/Dublin
BEGIN:VEVENT
UID:101@kildarelocalhistory.ie
DTSTART;TZID=Europe/Dublin:20240422T200000
DTEND;TZID=Europe/Dublin:20240422T210000
DTSTAMP:20240113T224214Z
URL:https://kildarelocalhistory.ie/events/the-mansfields-of-co-kildare/
SUMMARY:The Mansfields of Co Kildare
DESCRIPTION:Kill History Group\n\nThe Mansfields of Co Kildare: A Franco-Ir
 ish Catholic elite family and their networks 1870-1915 -  a talk by Fergu
 s Murphy\n\nImage: Illustration by Seán Sourke of Morristown Lattin House
  showing the full extent of the house before a fire destroyed the west win
 g.
ATTACH;FMTTYPE=image/jpeg:https://kildarelocalhistory.ie/wp-content/upload
 s/2024/01/4x3xl-Kill-Mansfields.jpg
CATEGORIES:Kill
LOCATION:Parish Meeting Room\, Main Street\, Kill\, County Kildare\, Irelan
 d
X-APPLE-STRUCTURED-LOCATION;VALUE=URI;X-ADDRESS=Main Street\, Kill\, County
  Kildare\, Ireland;X-APPLE-RADIUS=100;X-TITLE=Parish Meeting Room:geo:0,0
END:VEVENT
BEGIN:VTIMEZONE
TZID:Europe/Dublin
X-LIC-LOCATION:Europe/Dublin
BEGIN:DAYLIGHT
DTSTART:20240331T020000
TZOFFSETFROM:+0000
TZOFFSETTO:+0100
TZNAME:IST
END:DAYLIGHT
END:VTIMEZONE
END:VCALENDAR