BEGIN:VCALENDAR
VERSION:2.0
PRODID:-//wp-events-plugin.com//7.2.3.1//EN
TZID:Europe/Dublin
X-WR-TIMEZONE:Europe/Dublin
BEGIN:VEVENT
UID:11@kildarelocalhistory.ie
DTSTART;TZID=Europe/Dublin:20231108T200000
DTEND;TZID=Europe/Dublin:20231108T210000
DTSTAMP:20231106T005229Z
URL:https://kildarelocalhistory.ie/events/the-murder-of-joseph-bergin/
SUMMARY:The Murder of Joseph Bergin
DESCRIPTION:The Murder of Joseph Bergin - At Guidenstown\, Kildare on 13th 
 December 1923\, with author Mark McLoughlin.\nRefreshments served from 7.3
 0 pm talk begins at 8.00 pm
ATTACH;FMTTYPE=image/jpeg:https://kildarelocalhistory.ie/wp-content/upload
 s/2022/12/4x3xl-Cill-Dara-Historical-Society_Joseph-Bergin-2.jpg
CATEGORIES:Kildare
LOCATION:The Education Centre\, Old Parochial House\, Friary Road\, Kildare
 \, County Kildare\, R51 KN66\, Ireland
X-APPLE-STRUCTURED-LOCATION;VALUE=URI;X-ADDRESS=Old Parochial House\, Friar
 y Road\, Kildare\, County Kildare\, R51 KN66\, Ireland;X-APPLE-RADIUS=100;
 X-TITLE=The Education Centre:geo:0,0
END:VEVENT
BEGIN:VTIMEZONE
TZID:Europe/Dublin
X-LIC-LOCATION:Europe/Dublin
BEGIN:STANDARD
DTSTART:20231029T010000
TZOFFSETFROM:+0100
TZOFFSETTO:+0000
TZNAME:GMT
END:STANDARD
END:VTIMEZONE
END:VCALENDAR