BEGIN:VCALENDAR
VERSION:2.0
PRODID:-//wp-events-plugin.com//7.2.3.1//EN
TZID:Europe/Dublin
X-WR-TIMEZONE:Europe/Dublin
BEGIN:VEVENT
UID:280@kildarelocalhistory.ie
DTSTART;TZID=Europe/Dublin:20260509T200000
DTEND;TZID=Europe/Dublin:20260509T210000
DTSTAMP:20260409T002443Z
URL:https://kildarelocalhistory.ie/events/the-president-and-the-captains-w
 ife-a-punchestown-controversy-in-1940-2/
SUMMARY:The President and the Captain’s Wife – a Punchestown Controvers
 y in 1940
DESCRIPTION:Ballymore Eustace History Society\n\nThe President and the Capt
 ains wife\, a Punchestown controversy of the 1940s - talk by Liam Kenny.\n
 Liam Kenny is a prominent local historian and author specialising in the h
 istory of Kildare and West Wicklow. He is a postgraduate researcher at May
 nooth University.\n\nAdmission €5
ATTACH;FMTTYPE=image/jpeg:https://kildarelocalhistory.ie/wp-content/upload
 s/2026/04/4x3xl-Balymore-History-Society-LK_DH.jpg
CATEGORIES:Ballymore Eustace
LOCATION:Community Resource Centre\, Chapel Street\, Ballymore Eustace\, Co
 unty Kildare\, Leinster\, Ireland
X-APPLE-STRUCTURED-LOCATION;VALUE=URI;X-ADDRESS=Chapel Street\, Ballymore E
 ustace\, County Kildare\, Leinster\, Ireland;X-APPLE-RADIUS=100;X-TITLE=Co
 mmunity Resource Centre:geo:0,0
END:VEVENT
BEGIN:VTIMEZONE
TZID:Europe/Dublin
X-LIC-LOCATION:Europe/Dublin
BEGIN:DAYLIGHT
DTSTART:20260329T020000
TZOFFSETFROM:+0000
TZOFFSETTO:+0100
TZNAME:IST
END:DAYLIGHT
END:VTIMEZONE
END:VCALENDAR