BEGIN:VCALENDAR
VERSION:2.0
PRODID:-//wp-events-plugin.com//7.2.3.1//EN
TZID:Europe/Dublin
X-WR-TIMEZONE:Europe/Dublin
BEGIN:VEVENT
UID:144@kildarelocalhistory.ie
DTSTART;TZID=Europe/Dublin:20240920T190000
DTEND;TZID=Europe/Dublin:20240920T200000
DTSTAMP:20240813T220932Z
URL:https://kildarelocalhistory.ie/events/walk-and-talk-around-kill-villag
 e/
SUMMARY:Walk and Talk around Kill village
DESCRIPTION:Kill History Group\n\nWalk and Talk around Kill village\n\nPlea
 se note that this event\, which is part of  “Culture Night”\, will st
 art in the car park beside St Brigid’s church at 7 pm
ATTACH;FMTTYPE=image/jpeg:https://kildarelocalhistory.ie/wp-content/upload
 s/2023/07/4x3xl-Kill-LHG-Culture-Night.jpg
CATEGORIES:Kill
LOCATION:Parish Meeting Room\, Main Street\, Kill\, County Kildare\, Irelan
 d
X-APPLE-STRUCTURED-LOCATION;VALUE=URI;X-ADDRESS=Main Street\, Kill\, County
  Kildare\, Ireland;X-APPLE-RADIUS=100;X-TITLE=Parish Meeting Room:geo:0,0
END:VEVENT
BEGIN:VTIMEZONE
TZID:Europe/Dublin
X-LIC-LOCATION:Europe/Dublin
BEGIN:DAYLIGHT
DTSTART:20240331T020000
TZOFFSETFROM:+0000
TZOFFSETTO:+0100
TZNAME:IST
END:DAYLIGHT
END:VTIMEZONE
END:VCALENDAR